BEGIN:VCALENDAR
VERSION:2.0
PRODID:-//hacksw/handcal//NONSGML v1.0//EN
BEGIN:VEVENT
SUMMARY:M13 Filles / 8eme Journee
UID:ac0ee2a9-ec5a-4eb5-b36b-b155c9d5843e
DTSTART:20260425T120000Z
DTEND:20260425T220000Z
LOCATION:Espace Sports Glaisins Espace Sports Glaisins - 6 Rue de la Frasse 74940 Annecy-le-Vieux
CATEGORIES:Sportif
STATUS:
URL;VALUE=URI:https://www.handballclubgessien.com/evenements/2026/04/25/m13-filles-8eme-journee-2430395
END:VEVENT
END:VCALENDAR
